BEGIN:VCALENDAR
VERSION:2.0
PRODID:-//SwingAround//EN
BEGIN:VEVENT
DTSTART;VALUE=DATE:20260320
DTEND;VALUE=DATE:20260323
SUMMARY:The Blues’ Timing
DESCRIPTION:You all are welcomed to join the third edition of The Blues' Timing! Everyone is invited to the beautiful city of Florence on 20-21-22 March 2026 for a super weekend set for all the blues lovers! Y...
LOCATION:Florence, Italy
URL:https://swingaround.app/events/the-blues-timing-2026
UID:event-111@swingaround.com
END:VEVENT
END:VCALENDAR
