BEGIN:VCALENDAR
VERSION:2.0
PRODID:-//SwingAround//EN
BEGIN:VEVENT
DTSTART;VALUE=DATE:20260507
DTEND;VALUE=DATE:20260512
SUMMARY:The BRUX - Brussels Exchange 2026
DESCRIPTION:10th anniversary edition. More parties, more dance, more musicians, more live music, more fun. Organised by dancers for dancers, focusing on music, dance, friends, and our lovely city. Live music a...
LOCATION:Brussels, Belgium
URL:https://swingaround.app/events/the-brux-brussels-exchange-2026
UID:event-170@swingaround.com
END:VEVENT
END:VCALENDAR
