BEGIN:VCALENDAR
VERSION:2.0
PRODID:-//SwingAround//EN
BEGIN:VEVENT
DTSTART;VALUE=DATE:20260411
DTEND;VALUE=DATE:20260413
SUMMARY:The Pulse 2026
DESCRIPTION:The Pulse festival returns on 11 &amp; 12 April 2026. The workshop is predominantly Lindy Hop focused, with a slice of Balboa added to the menu this year.
LOCATION:St Aloysius School, Sharman Crawford St, Cork, T12 RK03, Ireland
URL:https://swingaround.app/events/the-pulse-2026
UID:event-141@swingaround.com
END:VEVENT
END:VCALENDAR
