BEGIN:VCALENDAR
VERSION:2.0
PRODID:-//SwingAround//EN
BEGIN:VEVENT
DTSTART;VALUE=DATE:20260828
DTEND;VALUE=DATE:20260831
SUMMARY:The Uptown Swingout 2026
DESCRIPTION:The Uptown Swingout returns!! A Lindy Hop workshop and dance weekend in Minneapolis, USA. We bring in top teachers for world class instruction, live music, and culture. 3 nights and 2 days of danci...
LOCATION:Minneapolis, United States
URL:https://swingaround.app/events/the-uptown-swingout-2026
UID:event-234@swingaround.com
END:VEVENT
END:VCALENDAR
