BEGIN:VCALENDAR
VERSION:2.0
PRODID:-//SwingAround//EN
BEGIN:VEVENT
DTSTART;VALUE=DATE:20260417
DTEND;VALUE=DATE:20260420
SUMMARY:Tiny Balboa 2026
DESCRIPTION:Mexican Carnaval Edition. Surprises and a fantastic teachers line-up, with 2 parties and one tea party with live bands.
LOCATION:Grenoble, France
URL:https://swingaround.app/events/tiny-balboa-2026
UID:event-146@swingaround.com
END:VEVENT
END:VCALENDAR
