BEGIN:VCALENDAR
VERSION:2.0
PRODID:-//SwingAround//EN
BEGIN:VEVENT
DTSTART;VALUE=DATE:20260508
DTEND;VALUE=DATE:20260511
SUMMARY:Uptown Rhythm 2026
DESCRIPTION:Live bands with rhythm to spare, world class Instructors inspiring your lindy hop and solo jazz, plus tasters, competitions, performances, and parties.
LOCATION:Vilnius, Lithuania
URL:https://swingaround.app/events/uptown-rhythm-2026
UID:event-175@swingaround.com
END:VEVENT
END:VCALENDAR
