BEGIN:VCALENDAR
VERSION:2.0
PRODID:-//SwingAround//EN
BEGIN:VEVENT
DTSTART;VALUE=DATE:20260522
DTEND;VALUE=DATE:20260525
SUMMARY:Valencia Balboa Festival 2026
DESCRIPTION:A meeting point for curiosity, rhythm and community, evolving from a local gathering into an international destination where dancers learn, connect and celebrate the joy of Balboa.
LOCATION:Palau de les Arts, Valencia, Spain
URL:https://swingaround.app/events/valencia-balboa-festival-2026
UID:event-187@swingaround.com
END:VEVENT
END:VCALENDAR
