BEGIN:VCALENDAR
VERSION:2.0
PRODID:-//SwingAround//EN
BEGIN:VEVENT
DTSTART;VALUE=DATE:20260828
DTEND;VALUE=DATE:20260831
SUMMARY:Velo-Swing Festival
DESCRIPTION:The Velo-Swing Festival will take place at Saarbruecken Castle and is a common meeting place for swing dancers, bike lovers and vintage fans. We offer you 3 live bands / 2 Bigbands / big swing part...
LOCATION:Saarbruecken, Germany
URL:https://swingaround.app/events/velo-swing-festival-2026-1
UID:event-235@swingaround.com
END:VEVENT
END:VCALENDAR
