BEGIN:VCALENDAR
VERSION:2.0
PRODID:-//SwingAround//EN
BEGIN:VEVENT
DTSTART;VALUE=DATE:20260828
DTEND;VALUE=DATE:20260831
SUMMARY:Velo-Swing Festival 2026
DESCRIPTION:The Velo-Swing Festival combines swing dancing with cycling culture. 3 live bands, 2 big bands, big swing parties, a bike ride, international teachers for workshops, swing pavilion with outdoor dan...
LOCATION:Saarbrücken Castle
URL:https://swingaround.app/events/velo-swing-festival-2026
UID:event-231@swingaround.com
END:VEVENT
END:VCALENDAR
