BEGIN:VCALENDAR
VERSION:2.0
PRODID:-//SwingAround//EN
BEGIN:VEVENT
DTSTART;VALUE=DATE:20260320
DTEND;VALUE=DATE:20260323
SUMMARY:Vienna Balboa & Laminu Experience
DESCRIPTION:VBLE 2026 - A Week-End of dance, music, joy and community. Lessons for Balboa, Laminu (!) and Slow Swing. Plus History Talk and the legendary VBLE Brunch. Musical Guests: Zoran Schmitz Trio (AT), B...
LOCATION:Vienna, Austria
URL:https://swingaround.app/events/vienna-balboa-laminu-experience-2026
UID:event-106@swingaround.com
END:VEVENT
END:VCALENDAR
