BEGIN:VCALENDAR
VERSION:2.0
PRODID:-//SwingAround//EN
BEGIN:VEVENT
DTSTART;VALUE=DATE:20260313
DTEND;VALUE=DATE:20260316
SUMMARY:Vietnam Lindy Exchange
DESCRIPTION:Vietnam Lindy Exchange is an international swing dance weekend held annually since 2009. In recent years, it takes place in the UNESCO World Heritage town of Hoi An, Central Vietnam. Expect swingin...
LOCATION:Hoi An, Viet Nam
URL:https://swingaround.app/events/vietnam-lindy-exchange-2026
UID:event-100@swingaround.com
END:VEVENT
END:VCALENDAR
