BEGIN:VCALENDAR
VERSION:2.0
PRODID:-//SwingAround//EN
BEGIN:VEVENT
DTSTART;VALUE=DATE:20260320
DTEND;VALUE=DATE:20260323
SUMMARY:Vintage Swing Party Vol IV
DESCRIPTION:Cozy Festival in the beautiful City of Sonderburg, Denmark. Workshops, Live Bands, Two Parties, Cozy Dinner if You like.
LOCATION:Sonderborg, Denmark
URL:https://swingaround.app/events/vintage-swing-party-vol-iv-2026
UID:event-114@swingaround.com
END:VEVENT
END:VCALENDAR
