BEGIN:VCALENDAR
VERSION:2.0
PRODID:-//SwingAround//EN
BEGIN:VEVENT
DTSTART;VALUE=DATE:20260619
DTEND;VALUE=DATE:20260622
SUMMARY:WGC Swing Festival
DESCRIPTION:The WGC Swing Festival! 3 evenings of social dancing featuring live music, 2 days of workshops, history &amp; culture discussions &amp; taster classes, with at least 10 international teachers. Focu...
LOCATION:Welwyn Garden City, United Kingdom
URL:https://swingaround.app/events/wgc-swing-festival-2026
UID:event-211@swingaround.com
END:VEVENT
END:VCALENDAR
