BEGIN:VCALENDAR
VERSION:2.0
PRODID:-//SwingAround//EN
BEGIN:VEVENT
DTSTART;VALUE=DATE:20260703
DTEND;VALUE=DATE:20260707
SUMMARY:What a Jazz summer camp
DESCRIPTION:StoNykla is a long weekend adventure in the Lithuanian countryside where together we party, play, take classes, eat, swim and spend time with new and old friends. Dances classes over the weekend (L...
LOCATION:Lithuania
URL:https://swingaround.app/events/what-a-jazz-summer-camp-2026
UID:event-214@swingaround.com
END:VEVENT
END:VCALENDAR
