BEGIN:VCALENDAR
VERSION:2.0
PRODID:-//SwingAround//EN
BEGIN:VEVENT
DTSTART;VALUE=DATE:20260724
DTEND;VALUE=DATE:20260727
SUMMARY:Winter Swing Festival 2026
DESCRIPTION:Celebrating TasSwing's 25th anniversary with a great weekend of dancing, live music, and celebration. Featuring amazing live bands and local cultural experiences including regional wines, craft bev...
LOCATION:Polish Hall
URL:https://swingaround.app/events/winter-swing-festival-2026-1
UID:event-222@swingaround.com
END:VEVENT
END:VCALENDAR
