BEGIN:VCALENDAR
VERSION:2.0
PRODID:-//SwingAround//EN
BEGIN:VEVENT
DTSTART;VALUE=DATE:20261211
DTEND;VALUE=DATE:20261214
SUMMARY:XmaSwing 2026
DESCRIPTION:A very special festival at a magical time of the year. The largest and oldest event at the Hep Cat Club in Augsburg. Workshops focusing on Lindy Hop and Solo Jazz, set against Augsburg's festive Ch...
LOCATION:Augsburg, Germany
URL:https://swingaround.app/events/xmaswing-2026
UID:event-264@swingaround.com
END:VEVENT
END:VCALENDAR
