BEGIN:VCALENDAR
VERSION:2.0
PRODID:-//SwingAround//EN
BEGIN:VEVENT
DTSTART;VALUE=DATE:20260508
DTEND;VALUE=DATE:20260511
SUMMARY:Yodel Hop 2026
DESCRIPTION:More than just a dance event - a get away into nature. Lindy Hop with international teachers, Feldenkrais to ground your body, local acts, treats and activities.
LOCATION:Ginzling, Austria
URL:https://swingaround.app/events/yodel-hop-2026
UID:event-176@swingaround.com
END:VEVENT
END:VCALENDAR
